BEGIN:VCALENDAR
VERSION:2.0
CALSCALE:GREGORIAN
METHOD:PUBLISH
PRODID://FGAC//511431
BEGIN:VEVENT
DTSTAMP:20260419T063659
VTIMEZONE:America/New_York
DTSTART:20260219T130000Z
DTEND:20260219T170000Z
UID:511431
SUMMARY:John C 8-2
LOCATION:
DESCRIPTION:John C 8-2\n\n02/19/26 08:00 AM EST\n - 02/19/26 12:00 PM EST
X-ALT-DESC;FMTTYPE=text/html:John C 8-2<br /><br />02/19/26 08:00 AM EST - 02/19/26 12:00 PM EST
PRIORITY:3
TRANSP:TRANSPARENT
BEGIN:VALARM
TRIGGER:-PT5M
ACTION:DISPLAY
DESCRIPTION:Reminder
END:VALARM
END:VEVENT
END:VCALENDAR
