BEGIN:VCALENDAR
VERSION:2.0
CALSCALE:GREGORIAN
METHOD:PUBLISH
PRODID://FGAC//511436
BEGIN:VEVENT
DTSTAMP:20260419T063729
VTIMEZONE:America/New_York
DTSTART:20260514T120000Z
DTEND:20260514T160000Z
UID:511436
SUMMARY:John C 8-2
LOCATION:
DESCRIPTION:John C 8-2\n\n05/14/26 08:00 AM EST\n - 05/14/26 12:00 PM EST
X-ALT-DESC;FMTTYPE=text/html:John C 8-2<br /><br />05/14/26 08:00 AM EST - 05/14/26 12:00 PM EST
PRIORITY:3
TRANSP:TRANSPARENT
BEGIN:VALARM
TRIGGER:-PT5M
ACTION:DISPLAY
DESCRIPTION:Reminder
END:VALARM
END:VEVENT
END:VCALENDAR
