BEGIN:VCALENDAR
VERSION:2.0
CALSCALE:GREGORIAN
METHOD:PUBLISH
PRODID://FGAC//511530
BEGIN:VEVENT
DTSTAMP:20260422T100350
VTIMEZONE:America/New_York
DTSTART:20260326T120000Z
DTEND:20260326T170000Z
UID:511530
SUMMARY:Mary T 8-2
LOCATION:
DESCRIPTION:Mary T 8-2\n\n03/26/26 08:00 AM EST\n - 03/26/26 01:00 PM EST
X-ALT-DESC;FMTTYPE=text/html:Mary T 8-2<br /><br />03/26/26 08:00 AM EST - 03/26/26 01:00 PM EST
PRIORITY:3
TRANSP:TRANSPARENT
BEGIN:VALARM
TRIGGER:-PT5M
ACTION:DISPLAY
DESCRIPTION:Reminder
END:VALARM
END:VEVENT
END:VCALENDAR
