BEGIN:VCALENDAR
VERSION:2.0
CALSCALE:GREGORIAN
METHOD:PUBLISH
PRODID://FGAC//515884
BEGIN:VEVENT
DTSTAMP:20260419T223906
VTIMEZONE:America/New_York
DTSTART:20260420T110000Z
DTEND:20260420T170000Z
UID:515884
SUMMARY:Joe B 7-1
LOCATION:
DESCRIPTION:Joe B 7-1\n\n04/20/26 07:00 AM EST\n - 04/20/26 01:00 PM EST
X-ALT-DESC;FMTTYPE=text/html:Joe B 7-1<br /><br />04/20/26 07:00 AM EST - 04/20/26 01:00 PM EST
PRIORITY:3
TRANSP:TRANSPARENT
BEGIN:VALARM
TRIGGER:-PT5M
ACTION:DISPLAY
DESCRIPTION:Reminder
END:VALARM
END:VEVENT
END:VCALENDAR
