BEGIN:VCALENDAR
VERSION:2.0
CALSCALE:GREGORIAN
METHOD:PUBLISH
PRODID://FGAC//515889
BEGIN:VEVENT
DTSTAMP:20260419T223222
VTIMEZONE:America/New_York
DTSTART:20260525T110000Z
DTEND:20260525T170000Z
UID:515889
SUMMARY:Joe B 7-1
LOCATION:
DESCRIPTION:Joe B 7-1\n\n05/25/26 07:00 AM EST\n - 05/25/26 01:00 PM EST
X-ALT-DESC;FMTTYPE=text/html:Joe B 7-1<br /><br />05/25/26 07:00 AM EST - 05/25/26 01:00 PM EST
PRIORITY:3
TRANSP:TRANSPARENT
BEGIN:VALARM
TRIGGER:-PT5M
ACTION:DISPLAY
DESCRIPTION:Reminder
END:VALARM
END:VEVENT
END:VCALENDAR
